BEGIN:VCALENDAR
VERSION:2.0
PRODID:-//Förderverein-JMS-Weilburg - ECPv6.15.20//NONSGML v1.0//EN
CALSCALE:GREGORIAN
METHOD:PUBLISH
X-WR-CALNAME:Förderverein-JMS-Weilburg
X-ORIGINAL-URL:https://xn--frderverein-jms-weilburg-loc.de
X-WR-CALDESC:Veranstaltungen für Förderverein-JMS-Weilburg
REFRESH-INTERVAL;VALUE=DURATION:PT1H
X-Robots-Tag:noindex
X-PUBLISHED-TTL:PT1H
BEGIN:VTIMEZONE
TZID:Europe/Berlin
BEGIN:DAYLIGHT
TZOFFSETFROM:+0100
TZOFFSETTO:+0200
TZNAME:CEST
DTSTART:20240331T010000
END:DAYLIGHT
BEGIN:STANDARD
TZOFFSETFROM:+0200
TZOFFSETTO:+0100
TZNAME:CET
DTSTART:20241027T010000
END:STANDARD
BEGIN:DAYLIGHT
TZOFFSETFROM:+0100
TZOFFSETTO:+0200
TZNAME:CEST
DTSTART:20250330T010000
END:DAYLIGHT
BEGIN:STANDARD
TZOFFSETFROM:+0200
TZOFFSETTO:+0100
TZNAME:CET
DTSTART:20251026T010000
END:STANDARD
BEGIN:DAYLIGHT
TZOFFSETFROM:+0100
TZOFFSETTO:+0200
TZNAME:CEST
DTSTART:20260329T010000
END:DAYLIGHT
BEGIN:STANDARD
TZOFFSETFROM:+0200
TZOFFSETTO:+0100
TZNAME:CET
DTSTART:20261025T010000
END:STANDARD
END:VTIMEZONE
BEGIN:VEVENT
DTSTART;TZID=Europe/Berlin:20251129T100000
DTEND;TZID=Europe/Berlin:20251129T130000
DTSTAMP:20260422T193454
CREATED:20251102T170414Z
LAST-MODIFIED:20251102T171738Z
UID:314-1764410400-1764421200@xn--frderverein-jms-weilburg-loc.de
SUMMARY:Tag der offenen Tür
DESCRIPTION:Am 29.11.2025 in der Zeit von 10 bis 13 Uhr findet der Tag der offenen Tür an der Jakob-Mankel-Schule statt.
URL:https://xn--frderverein-jms-weilburg-loc.de/event/tag-der-offenen-tuer/
END:VEVENT
BEGIN:VEVENT
DTSTART;TZID=Europe/Berlin:20251104T190000
DTEND;TZID=Europe/Berlin:20251104T190000
DTSTAMP:20260422T193454
CREATED:20251102T165149Z
LAST-MODIFIED:20251102T165149Z
UID:310-1762282800-1762282800@xn--frderverein-jms-weilburg-loc.de
SUMMARY:Mitgliederversammlung 2025
DESCRIPTION:Am 04.11. 2025 findet ab 19 Uhr die Mitgliederversammlung 2025 des Fördervereins Freunde der JMS e.V. in der Jakob-Mankel-Schule statt.
URL:https://xn--frderverein-jms-weilburg-loc.de/event/mitgliederversammlung-2025/
END:VEVENT
END:VCALENDAR